BEGIN:VCALENDAR
PRODID:-//eluceo/ical//2.0/EN
VERSION:2.0
CALSCALE:GREGORIAN
BEGIN:VEVENT
UID:7307f1e50009ddd6220d57a673bf85d8
DTSTAMP:20260424T131620Z
SUMMARY:Look Good Feel Better: Kosmetik-Workshops für Krebsbetroffene
URL:https://humangenetik.insel.ch/de/veranstaltungen/details/detail/look-go
 od-feel-better-kosmetik-workshops-fuer-krebsbetroffene-2
DTSTART;TZID=+02:00:20260424T140000
DTEND;TZID=+02:00:20260424T160000
LOCATION:Frauenklinik Inselspital\, Friedbühlstrasse 19\, 3010 Bern\, Zimm
 er B172
END:VEVENT
END:VCALENDAR
